BEGIN:VCALENDAR
VERSION:2.0
PRODID:-//falknerei-berl.de - ECPv4.6.13//NONSGML v1.0//EN
CALSCALE:GREGORIAN
METHOD:PUBLISH
X-WR-CALNAME:falknerei-berl.de
X-ORIGINAL-URL:https://falknerei-berl.de
X-WR-CALDESC:Veranstaltungen für falknerei-berl.de
BEGIN:VEVENT
DTSTART;TZID=Europe/Berlin:20210926T150000
DTEND;TZID=Europe/Berlin:20210926T160000
DTSTAMP:20260421T223406
CREATED:20210612T151613Z
LAST-MODIFIED:20210612T151613Z
UID:598-1632668400-1632672000@falknerei-berl.de
SUMMARY:Flugvorführung in Durbach
DESCRIPTION:Wir bitten um Anmeldung\, da nur begrenzt Plätze vorhanden sind! \nFlugvorführung in den Weinbergen Durbachs direkt im Weingut „Freiherr von Neveu“ im Hespengrund 11\, 77770 Durbach \nZusehen sind verschiedene Greifvögel im Freiflug. \nBei Regen\, Sturm\, Schneefall und Temperaturen über 30°C fällt die Flugvorführung aus Sicherheits- sowie Tierschutzgründen aus! \nHunde sind aus Tierschutz- und Sicherheitsgründen nicht im Aktionsbereich der Greifvögel gestattet! \n
URL:https://falknerei-berl.de/event/flugvorfuehrung-in-durbach-9/
END:VEVENT
END:VCALENDAR